BEGIN:VCALENDAR
VERSION:2.0
PRODID:-//Avrasya Üniversitesi - ECPv6.15.11//NONSGML v1.0//EN
CALSCALE:GREGORIAN
METHOD:PUBLISH
X-WR-CALNAME:Avrasya Üniversitesi
X-ORIGINAL-URL:https://fef.avrasya.edu.tr
X-WR-CALDESC:Avrasya Üniversitesi için etkinlikler
REFRESH-INTERVAL;VALUE=DURATION:PT1H
X-Robots-Tag:noindex
X-PUBLISHED-TTL:PT1H
BEGIN:VTIMEZONE
TZID:Europe/Moscow
BEGIN:STANDARD
TZOFFSETFROM:+0300
TZOFFSETTO:+0300
TZNAME:MSK
DTSTART:20200101T000000
END:STANDARD
END:VTIMEZONE
BEGIN:VEVENT
DTSTART;VALUE=DATE:20210906
DTEND;VALUE=DATE:20210907
DTSTAMP:20260420T145006
CREATED:20210327T053829Z
LAST-MODIFIED:20210327T054125Z
UID:7994-1630886400-1630972799@fef.avrasya.edu.tr
SUMMARY:1. Ulusal Avrasya Psikoloji Çalışmaları Kongresi
DESCRIPTION:
URL:https://fef.avrasya.edu.tr/event/1-ulusal-avrasya-psikoloji-calismalari-kongresi/
ATTACH;FMTTYPE=image/png:https://fef.avrasya.edu.tr/wp-content/uploads/2021/03/afis_2-1-1.png
END:VEVENT
BEGIN:VEVENT
DTSTART;VALUE=DATE:20210617
DTEND;VALUE=DATE:20210618
DTSTAMP:20260420T145006
CREATED:20210110T101724Z
LAST-MODIFIED:20210327T054058Z
UID:7379-1623888000-1623974399@fef.avrasya.edu.tr
SUMMARY:1. Uluslararası Avrasya Edebiyat Çalışmaları Kongresi
DESCRIPTION:
URL:https://fef.avrasya.edu.tr/event/etlinlik-1/
ATTACH;FMTTYPE=image/png:https://fef.avrasya.edu.tr/wp-content/uploads/2021/01/WebBannerSon.png
END:VEVENT
END:VCALENDAR